BEGIN:VCALENDAR
VERSION:2.0
PRODID:-//Senate Employment Office - ECPv6.7.0//NONSGML v1.0//EN
CALSCALE:GREGORIAN
METHOD:PUBLISH
X-ORIGINAL-URL:https://employment.senate.gov
X-WR-CALDESC:Events for Senate Employment Office
REFRESH-INTERVAL;VALUE=DURATION:PT1H
X-Robots-Tag:noindex
X-PUBLISHED-TTL:PT1H
BEGIN:VTIMEZONE
TZID:America/New_York
BEGIN:DAYLIGHT
TZOFFSETFROM:-0500
TZOFFSETTO:-0400
TZNAME:EDT
DTSTART:20230312T070000
END:DAYLIGHT
BEGIN:STANDARD
TZOFFSETFROM:-0400
TZOFFSETTO:-0500
TZNAME:EST
DTSTART:20231105T060000
END:STANDARD
END:VTIMEZONE
BEGIN:VEVENT
DTSTART;TZID=America/New_York:20230215T163000
DTEND;TZID=America/New_York:20230215T183000
DTSTAMP:20260419T224018
CREATED:20230201T215405Z
LAST-MODIFIED:20230728T170731Z
UID:10000032-1676478600-1676485800@employment.senate.gov
SUMMARY:American University - Campaigns\, Congress & Lobbying Networking Reception
DESCRIPTION:Representatives from the Senate Employment Office will be available to connect with AU students and alumni at this in-person reception related to politics and advocacy. Other participating organizations may include congressional offices\, election campaigns\, and lobbying or advocacy groups. Interested individuals may contact the School of Public Affairs or the AU Career Center for more information.
URL:https://employment.senate.gov/event/campaigns-congress-lobbying-networking-reception/
CATEGORIES:Employment Office Events
END:VEVENT
END:VCALENDAR