BEGIN:VCALENDAR
VERSION:2.0
PRODID:-//Senate Employment Office - ECPv6.7.0//NONSGML v1.0//EN
CALSCALE:GREGORIAN
METHOD:PUBLISH
X-ORIGINAL-URL:https://employment.senate.gov
X-WR-CALDESC:Events for Senate Employment Office
REFRESH-INTERVAL;VALUE=DURATION:PT1H
X-Robots-Tag:noindex
X-PUBLISHED-TTL:PT1H
BEGIN:VTIMEZONE
TZID:America/New_York
BEGIN:DAYLIGHT
TZOFFSETFROM:-0500
TZOFFSETTO:-0400
TZNAME:EDT
DTSTART:20240310T070000
END:DAYLIGHT
BEGIN:STANDARD
TZOFFSETFROM:-0400
TZOFFSETTO:-0500
TZNAME:EST
DTSTART:20241103T060000
END:STANDARD
END:VTIMEZONE
BEGIN:VEVENT
DTSTART;TZID=America/New_York:20240612T130000
DTEND;TZID=America/New_York:20240612T140000
DTSTAMP:20260419T144750
CREATED:20231220T171512Z
LAST-MODIFIED:20231220T171513Z
UID:10000074-1718197200-1718200800@employment.senate.gov
SUMMARY:Career Employment at the Senate
DESCRIPTION:The Senate Employment Office will be hosting a virtual information session about Career Employment at the U.S. Senate. This one-hour session was designed for working professionals seeking full-time career opportunities in a Senate Member or Committee office. General guidance will be provided on how to prepare for your job search\, find and apply to Senate staff positions\, and other resources for Senate job seekers. After the presentation\, participants will have the opportunity to ask questions in a live Q&A forum.\n\n\n\n \n\n\n\nThis event will be held virtually over WebEx. Please register using this link: https://sen.gov/RM6Y\n\n\n\n \n\n\n\nRequests for accommodations should be emailed to employmentinfo@saa.senate.gov by 5:30 PM ET\, Friday\, June 7th\, 2024.
URL:https://employment.senate.gov/event/career-employment-at-the-senate-2/
CATEGORIES:Employment Office Events
ATTACH;FMTTYPE=image/jpeg:https://employment.senate.gov/wp-content/uploads/2023/10/Career-Employment-Graphic.jpg
END:VEVENT
END:VCALENDAR