BEGIN:VCALENDAR
VERSION:2.0
PRODID:-//Senate Employment Office - ECPv6.7.0//NONSGML v1.0//EN
CALSCALE:GREGORIAN
METHOD:PUBLISH
X-WR-CALNAME:Senate Employment Office
X-ORIGINAL-URL:https://employment.senate.gov
X-WR-CALDESC:Events for Senate Employment Office
REFRESH-INTERVAL;VALUE=DURATION:PT1H
X-Robots-Tag:noindex
X-PUBLISHED-TTL:PT1H
BEGIN:VTIMEZONE
TZID:America/New_York
BEGIN:DAYLIGHT
TZOFFSETFROM:-0500
TZOFFSETTO:-0400
TZNAME:EDT
DTSTART:20240310T070000
END:DAYLIGHT
BEGIN:STANDARD
TZOFFSETFROM:-0400
TZOFFSETTO:-0500
TZNAME:EST
DTSTART:20241103T060000
END:STANDARD
END:VTIMEZONE
BEGIN:VEVENT
DTSTART;TZID=America/New_York:20240507T140000
DTEND;TZID=America/New_York:20240507T153000
DTSTAMP:20260424T010140
CREATED:20240416T184430Z
LAST-MODIFIED:20240430T194503Z
UID:10000094-1715090400-1715095800@employment.senate.gov
SUMMARY:Federal Hiring Options and Using USAJOBS *SENATE STAFF ONLY*
DESCRIPTION:This event is open to Senate staff and interns with a congressional ID.\n\n\n\nThe Senate Employment Office and Office of Training and Development have partnered to host two USAJOBS information sessions. The webinars will provide an overview of the federal hiring process\, different hiring paths in the executive service\, and tips on navigating the USAJOBS website. Staff from the Office of Personnel Management (OPM) will also be available to answer questions.\n\n\n\nSenate staff and interns may register for an upcoming session through the Learning Center: https://saa.csod.com/ui/lms-learning-details/app/event/2c528fa4-9c5b-4ee6-9ff9-637d85f23318
URL:https://employment.senate.gov/event/usajobs-federal-hiring-information-session-senate-staff-only/2024-05-07/
CATEGORIES:Employment Office Events
ATTACH;FMTTYPE=image/png:https://employment.senate.gov/wp-content/uploads/2024/04/2560px-USAJOBS.gov_logo.svg.png
END:VEVENT
BEGIN:VEVENT
DTSTART;TZID=America/New_York:20240508T130000
DTEND;TZID=America/New_York:20240508T140000
DTSTAMP:20260424T010140
CREATED:20231220T172505Z
LAST-MODIFIED:20231220T172506Z
UID:10000078-1715173200-1715176800@employment.senate.gov
SUMMARY:Early Career Opportunities at the U.S. Senate
DESCRIPTION:The Senate Employment Office invites you to join our virtual information session for students and recent graduates. This session will cover entry-level employment and internship opportunities with Senate Member and Committee offices\, how to find and apply to Senate vacancies\, and application tips and insight. After the presentation\, participants will have the opportunity to ask questions in our live Q&A forum.\n\n\n\n \n\n\n\nThis event will be held virtually over WebEx. Please register using this link: https://sen.gov/0NMN\n\n\n\n \n\n\n\nRequests for accommodations should be emailed to employmentinfo@saa.senate.gov by 5:30 PM ET\, Friday\, May 3rd.
URL:https://employment.senate.gov/event/early-career-opportunities-at-the-u-s-senate-3/
CATEGORIES:Employment Office Events
ATTACH;FMTTYPE=image/jpeg:https://employment.senate.gov/wp-content/uploads/2023/10/Early-Career-Webinar-Graphic.jpg
END:VEVENT
BEGIN:VEVENT
DTSTART;TZID=America/New_York:20240516T130000
DTEND;TZID=America/New_York:20240516T143000
DTSTAMP:20260424T010140
CREATED:20240416T184430Z
LAST-MODIFIED:20240430T194503Z
UID:10000096-1715864400-1715869800@employment.senate.gov
SUMMARY:Federal Hiring Options and Using USAJOBS *SENATE STAFF ONLY*
DESCRIPTION:This event is open to Senate staff and interns with a congressional ID.\n\n\n\nThe Senate Employment Office and Office of Training and Development have partnered to host two USAJOBS information sessions. The webinars will provide an overview of the federal hiring process\, different hiring paths in the executive service\, and tips on navigating the USAJOBS website. Staff from the Office of Personnel Management (OPM) will also be available to answer questions.\n\n\n\nSenate staff and interns may register for an upcoming session through the Learning Center: https://saa.csod.com/ui/lms-learning-details/app/event/2c528fa4-9c5b-4ee6-9ff9-637d85f23318
URL:https://employment.senate.gov/event/usajobs-federal-hiring-information-session-senate-staff-only/2024-05-16/
CATEGORIES:Employment Office Events
ATTACH;FMTTYPE=image/png:https://employment.senate.gov/wp-content/uploads/2024/04/2560px-USAJOBS.gov_logo.svg.png
END:VEVENT
END:VCALENDAR