BEGIN:VCALENDAR
VERSION:2.0
PRODID:-//Senate Employment Office - ECPv6.7.0//NONSGML v1.0//EN
CALSCALE:GREGORIAN
METHOD:PUBLISH
X-ORIGINAL-URL:https://employment.senate.gov
X-WR-CALDESC:Events for Senate Employment Office
REFRESH-INTERVAL;VALUE=DURATION:PT1H
X-Robots-Tag:noindex
X-PUBLISHED-TTL:PT1H
BEGIN:VTIMEZONE
TZID:America/New_York
BEGIN:DAYLIGHT
TZOFFSETFROM:-0500
TZOFFSETTO:-0400
TZNAME:EDT
DTSTART:20240310T070000
END:DAYLIGHT
BEGIN:STANDARD
TZOFFSETFROM:-0400
TZOFFSETTO:-0500
TZNAME:EST
DTSTART:20241103T060000
END:STANDARD
END:VTIMEZONE
BEGIN:VEVENT
DTSTART;TZID=America/New_York:20240605T110000
DTEND;TZID=America/New_York:20240605T140000
DTSTAMP:20260423T181121
CREATED:20240523T150629Z
LAST-MODIFIED:20240523T150655Z
UID:10000098-1717585200-1717596000@employment.senate.gov
SUMMARY:Wellness Wednesdays: Professional Wellness and Building Relationships *SENATE STAFF ONLY*
DESCRIPTION:This event is only open to Senate staff and interns with a congressional ID.\n\n\n\nThis June\, the Senate Employment Office is partnering with the Employee Assistance Program for Professional Wellness and Build Relationships Month. Professional wellness\, or occupational wellness\, empowers us to prepare for and pursue academic and career options that bring us personal satisfaction and enrichment. By prioritizing our professional wellness\, we can effectively manage our work and personal lives\, which also helps reduce stress. Additionally\, fostering relationships with others can provide us with opportunities to network and seek mentorship\, which can further improve our professional wellness both presently\, and in the future.\n\n\n\n \n\n\n\nThis event will provide staff with tips on how to enhance professional wellness including: ideas for building relationships within the Senate community\, networking\, professional development and reintroducing the services provided by the Senate Employment Office. Senate staff and interns may register here: https://saa.csod.com/ui/lms-learning-details/app/event/ff23be36-2034-4882-b23b-97b4f2ff6d8f.
URL:https://employment.senate.gov/event/wellness-wednesdays-professional-wellness-and-building-relationships-senate-staff-only/
CATEGORIES:Employment Office Events
ATTACH;FMTTYPE=image/jpeg:https://employment.senate.gov/wp-content/uploads/2024/05/Wellness-Wednesday-for-June-scaled.jpg
END:VEVENT
BEGIN:VEVENT
DTSTART;TZID=America/New_York:20240610T130000
DTEND;TZID=America/New_York:20240610T170000
DTSTAMP:20260423T181121
CREATED:20240523T152608Z
LAST-MODIFIED:20240603T165041Z
UID:10000100-1718024400-1718038800@employment.senate.gov
SUMMARY:Capitol Intern Summit & Service Fair *CONGRESIONAL INTERNS ONLY*
DESCRIPTION:This event is only open to congressional interns.\n\n\n\nInterns can kick off their internships with the House Intern Resource Office’s Capitol Intern Summit! Interns can network\, listen in on educational panels from highly experienced staff\, and discover resources to get ahead and maximize their learning experience. Speaker sessions begin at 1:00 PM\, followed by a service fair at 4:00 PM.\n\n\n\n \n\n\n\nThe Senate Employment Office will have a table at the service fair. We look forward to connecting with you! Congressional interns may register here: https://forms.office.com/pages/responsepage.aspx?id=mYITktAiSU2NMHFw1YltmNHD7LaUTstBmqUfYE_SMdhUMDNVT0VOTEJGVVVRU05GVFJZTjlUSTBPVy4u
URL:https://employment.senate.gov/event/capitol-intern-summit-service-fair-congresional-interns-only/
CATEGORIES:Employment Office Events
ATTACH;FMTTYPE=image/png:https://employment.senate.gov/wp-content/uploads/2024/05/Capitol-Intern-Summit-Email-banner-1-1.png
END:VEVENT
BEGIN:VEVENT
DTSTART;TZID=America/New_York:20240612T130000
DTEND;TZID=America/New_York:20240612T140000
DTSTAMP:20260423T181121
CREATED:20231220T171512Z
LAST-MODIFIED:20231220T171513Z
UID:10000074-1718197200-1718200800@employment.senate.gov
SUMMARY:Career Employment at the Senate
DESCRIPTION:The Senate Employment Office will be hosting a virtual information session about Career Employment at the U.S. Senate. This one-hour session was designed for working professionals seeking full-time career opportunities in a Senate Member or Committee office. General guidance will be provided on how to prepare for your job search\, find and apply to Senate staff positions\, and other resources for Senate job seekers. After the presentation\, participants will have the opportunity to ask questions in a live Q&A forum.\n\n\n\n \n\n\n\nThis event will be held virtually over WebEx. Please register using this link: https://sen.gov/RM6Y\n\n\n\n \n\n\n\nRequests for accommodations should be emailed to employmentinfo@saa.senate.gov by 5:30 PM ET\, Friday\, June 7th\, 2024.
URL:https://employment.senate.gov/event/career-employment-at-the-senate-2/
CATEGORIES:Employment Office Events
ATTACH;FMTTYPE=image/jpeg:https://employment.senate.gov/wp-content/uploads/2023/10/Career-Employment-Graphic.jpg
END:VEVENT
END:VCALENDAR