BEGIN:VCALENDAR
VERSION:2.0
PRODID:-//Senate Employment Office - ECPv6.7.0//NONSGML v1.0//EN
CALSCALE:GREGORIAN
METHOD:PUBLISH
X-WR-CALNAME:Senate Employment Office
X-ORIGINAL-URL:https://employment.senate.gov
X-WR-CALDESC:Events for Senate Employment Office
REFRESH-INTERVAL;VALUE=DURATION:PT1H
X-Robots-Tag:noindex
X-PUBLISHED-TTL:PT1H
BEGIN:VTIMEZONE
TZID:America/New_York
BEGIN:DAYLIGHT
TZOFFSETFROM:-0500
TZOFFSETTO:-0400
TZNAME:EDT
DTSTART:20230312T070000
END:DAYLIGHT
BEGIN:STANDARD
TZOFFSETFROM:-0400
TZOFFSETTO:-0500
TZNAME:EST
DTSTART:20231105T060000
END:STANDARD
BEGIN:DAYLIGHT
TZOFFSETFROM:-0500
TZOFFSETTO:-0400
TZNAME:EDT
DTSTART:20240310T070000
END:DAYLIGHT
BEGIN:STANDARD
TZOFFSETFROM:-0400
TZOFFSETTO:-0500
TZNAME:EST
DTSTART:20241103T060000
END:STANDARD
END:VTIMEZONE
BEGIN:VEVENT
DTSTART;TZID=America/New_York:20240118T160000
DTEND;TZID=America/New_York:20240118T193000
DTSTAMP:20260423T162908
CREATED:20240116T162247Z
LAST-MODIFIED:20240116T163207Z
UID:10000088-1705593600-1705606200@employment.senate.gov
SUMMARY:Internapalooza
DESCRIPTION:Internapalooza is a free\, nonpartisan orientation and welcome event for all current Congressional interns\, hosted by POPVOX Foundation and members of the First Branch Intern Project. The event includes a keynote speaker\, networking and career planning panels\, and a reception.\n\n\n\nThe Senate Employment Office will be attending the reception\, and can’t wait to connect with you!\n\n\n\nThis event is only open to current Senate and House interns.\n\n\n\nFind more information and register at: https://www.internproject.org/internapalooza
URL:https://employment.senate.gov/event/internapalooza/
CATEGORIES:Employment Office Events,Sergeant at Arms Events
ATTACH;FMTTYPE=image/png:https://employment.senate.gov/wp-content/uploads/2024/01/Internpalooza.png
END:VEVENT
BEGIN:VEVENT
DTSTART;TZID=America/New_York:20230622T100000
DTEND;TZID=America/New_York:20230622T140000
DTSTAMP:20260423T162908
CREATED:20230607T194634Z
LAST-MODIFIED:20230728T171017Z
UID:10000038-1687428000-1687442400@employment.senate.gov
SUMMARY:WRNMMC OWF / E2I Federal Internship and Employment Fair
DESCRIPTION:U.S. Department of Defense\, Defense Health Agency\, Recovery Coordination Program OWF/E2I\, is hosting a LIVE! In-Person career fair for Service Members\, military spouses\, and veterans to learn more about the path to career opportunities with federal internships\, employment opportunities in private industry when transitioning from active duty service and numerous transition information resources. The Department of Labor will also be hosting an in-person workshop for pre-registered attendees\, this is a wonderful opportunity to gain valuable knowledge and access to resources that will support your career development. \n\n\n\nPARTICIPATING AGENCIES: \n\n\n\n\nDefense Intelligence Agency (DIA)\n\n\n\nNational Geospatial Agency (NGA)\n\n\n\nOffice of Director of National Intelligence (ODNI)\n\n\n\nUS Senate Sergeant at Arms Employment\n\n\n\nVET JOBS/Military Spouse Jobs.org\n\n\n\nUnited States Department of Agriculture\n\n\n\nUS Department of Labor\n\n\n\nVeteran Readiness & Employment\n\n\n\nMaryland Department of Labor\n\n\n\n\n…And Many More!
URL:https://employment.senate.gov/event/wrnmmc-owf-e2i-federal-internship-and-employment-fair/
LOCATION:Walter Reed National Military Medical Center\, 4494 Palmer Road\, North Bethesda\, MD\, 20814\, United States
CATEGORIES:Employment Office Events,Sergeant at Arms Events
END:VEVENT
BEGIN:VEVENT
DTSTART;TZID=America/New_York:20230406T140000
DTEND;TZID=America/New_York:20230406T170000
DTSTAMP:20260423T162908
CREATED:20230306T180529Z
LAST-MODIFIED:20230728T170729Z
UID:10000034-1680789600-1680800400@employment.senate.gov
SUMMARY:DC Intelligence Studies Consortium
DESCRIPTION:The Senate Employment Office will be in attendance alongside representatives from other federal agencies\, private sector corporations\, and think tanks. SEO staff will be available to answer questions about finding employment with Senate offices and the Senate Sergeant at Arms. This event is hosted by Texas A&M University’s Bush School of Government and Public Service.
URL:https://employment.senate.gov/event/dc-intelligence-studies-consortium/
CATEGORIES:Employment Office Events,Sergeant at Arms Events
END:VEVENT
END:VCALENDAR